BEGIN:VCALENDAR
VERSION:2.0
PRODID:-//Crossings Art &amp; Community Education Center - ECPv6.15.20//NONSGML v1.0//EN
CALSCALE:GREGORIAN
METHOD:PUBLISH
X-WR-CALNAME:Crossings Art &amp; Community Education Center
X-ORIGINAL-URL:https://crossingszumbrota.com
X-WR-CALDESC:Events for Crossings Art &amp; Community Education Center
REFRESH-INTERVAL;VALUE=DURATION:PT1H
X-Robots-Tag:noindex
X-PUBLISHED-TTL:PT1H
BEGIN:VTIMEZONE
TZID:America/Chicago
BEGIN:DAYLIGHT
TZOFFSETFROM:-0600
TZOFFSETTO:-0500
TZNAME:CDT
DTSTART:20240310T080000
END:DAYLIGHT
BEGIN:STANDARD
TZOFFSETFROM:-0500
TZOFFSETTO:-0600
TZNAME:CST
DTSTART:20241103T070000
END:STANDARD
BEGIN:DAYLIGHT
TZOFFSETFROM:-0600
TZOFFSETTO:-0500
TZNAME:CDT
DTSTART:20250309T080000
END:DAYLIGHT
BEGIN:STANDARD
TZOFFSETFROM:-0500
TZOFFSETTO:-0600
TZNAME:CST
DTSTART:20251102T070000
END:STANDARD
BEGIN:DAYLIGHT
TZOFFSETFROM:-0600
TZOFFSETTO:-0500
TZNAME:CDT
DTSTART:20260308T080000
END:DAYLIGHT
BEGIN:STANDARD
TZOFFSETFROM:-0500
TZOFFSETTO:-0600
TZNAME:CST
DTSTART:20261101T070000
END:STANDARD
END:VTIMEZONE
BEGIN:VEVENT
DTSTART;TZID=America/Chicago:20251103T183000
DTEND;TZID=America/Chicago:20251113T203000
DTSTAMP:20260421T071954
CREATED:20250924T192545Z
LAST-MODIFIED:20251102T180132Z
UID:1531-1762194600-1763065800@crossingszumbrota.com
SUMMARY:Button Making Workshop
DESCRIPTION:November 3rd – 13th\, Mondays and Thursdays from 6:30 – 8:30pm \n\n\n\n\nThe process is simple! The first week we will roll out the clay\, cut into desired shapes\, create textures\, make designs or emboss with stamps or simple tools\, add the holes and dry. Then these will be bisque fired and ready for the next class where we will add glazes (and maybe make more buttons once you find out how easy and fun it is!) \n\n\n\nThen the buttons will go into the kiln for the final firing and be ready to sew onto your favorite garments\, sweaters\, or add some flair to a hat or purse. \n\n\n\nYou can come to any of the class times\, plan on at least two times to finish your buttons\, or come every time and really dive into this fun exploration of clay. Once you see your results and how easy it is – you won’t want to stop! \n\n\n\nThe cost is $12.00 per session\, and includes ten finished buttons. If you make more\, they will be $1.00 each. \n\n\n\n\n\n\n\n\nWe will meet twice a week for two weeks\, Monday and Thursday evenings from 6:30 – 8:30 and work on creating our miniature little works of art! Making buttons out of clay is easy with a few tricks and the right tools. \n\n\n\nRegister here for SESSION ONE  Monday Nov 3rd **FULL**Register here for SESSION TWO Thursday Nov 6th **FULL**Register here for SESSION THREE Monday Nov 10th **FULL**Register here for SESSION FOUR Monday Nov 13th (if you sign up for session four\, we will add another class time to glaze and finish!) \n\n\n\n\n\n\n\n\n\n\n\n\n\nFrequently Asked Questions: – Once my buttons are finished\, can they be machine washed? Best not to risk it! They should be dry cleaned or hand wash only. But smaller buttons\, securely attached may be safely machine washed on a hand wash cycle. And air dried. – What glaze colors do you have to choose from? If you can imagine it – we can make it happen! Between the glazes and underglazes\, we have you covered.  – If I can only come one time\, will you finish my buttons and glaze them for me? That may be an option\, but we really want you to have the whole experience from start to finish but also understand busy lives.
URL:https://crossingszumbrota.com/event/making-ceramic-buttons-session-one/
LOCATION:Crossings Clay Studio\, 320 East Ave\, lower level\, Zumbrota\, MN\, 55992\, United States
END:VEVENT
BEGIN:VEVENT
DTSTART;TZID=America/Chicago:20251112T063000
DTEND;TZID=America/Chicago:20251112T203000
DTSTAMP:20260421T071954
CREATED:20251023T204648Z
LAST-MODIFIED:20251111T194258Z
UID:1542-1762929000-1762979400@crossingszumbrota.com
SUMMARY:Ceramic Ornaments\, fun and easy! *FULL*
DESCRIPTION:Join us in the lower level clay studio to make beautiful clay ornaments to decorate your home or Christmas tree for the holidays! We’ll roll out clay and add textures\, then use stencils or cookie cutters to create the shapes. You can add letters and names to personalize your ornaments if you like. We’ll choose our glaze colors and your ornaments will be ready for pick up within two weeks. Each person can make up to ten ornaments and this workshop is super family friendly!They will also make really special gifts for teachers\, friends and family. \n\n\n\n\n\n\n\n\n\nPurchase tickets here \n\n\n\nFor each additional child\, click here for payment of $12 each\, includes 10 ornaments per child\, must be 14 or under and accompanied by an adult. Child ticket here
URL:https://crossingszumbrota.com/event/ceramic-ornaments-fun-and-easy/
LOCATION:Crossings Clay Studio\, 320 East Ave\, lower level\, Zumbrota\, MN\, 55992\, United States
END:VEVENT
END:VCALENDAR