BEGIN:VCALENDAR
VERSION:2.0
PRODID:-//Crossings Art &amp; Community Education Center - ECPv6.15.20//NONSGML v1.0//EN
CALSCALE:GREGORIAN
METHOD:PUBLISH
X-WR-CALNAME:Crossings Art &amp; Community Education Center
X-ORIGINAL-URL:https://crossingszumbrota.com
X-WR-CALDESC:Events for Crossings Art &amp; Community Education Center
REFRESH-INTERVAL;VALUE=DURATION:PT1H
X-Robots-Tag:noindex
X-PUBLISHED-TTL:PT1H
BEGIN:VTIMEZONE
TZID:America/Chicago
BEGIN:DAYLIGHT
TZOFFSETFROM:-0600
TZOFFSETTO:-0500
TZNAME:CDT
DTSTART:20240310T080000
END:DAYLIGHT
BEGIN:STANDARD
TZOFFSETFROM:-0500
TZOFFSETTO:-0600
TZNAME:CST
DTSTART:20241103T070000
END:STANDARD
BEGIN:DAYLIGHT
TZOFFSETFROM:-0600
TZOFFSETTO:-0500
TZNAME:CDT
DTSTART:20250309T080000
END:DAYLIGHT
BEGIN:STANDARD
TZOFFSETFROM:-0500
TZOFFSETTO:-0600
TZNAME:CST
DTSTART:20251102T070000
END:STANDARD
BEGIN:DAYLIGHT
TZOFFSETFROM:-0600
TZOFFSETTO:-0500
TZNAME:CDT
DTSTART:20260308T080000
END:DAYLIGHT
BEGIN:STANDARD
TZOFFSETFROM:-0500
TZOFFSETTO:-0600
TZNAME:CST
DTSTART:20261101T070000
END:STANDARD
END:VTIMEZONE
BEGIN:VEVENT
DTSTART;TZID=America/Chicago:20250607T100000
DTEND;TZID=America/Chicago:20250607T160000
DTSTAMP:20260421T151203
CREATED:20240509T153433Z
LAST-MODIFIED:20250527T182021Z
UID:676-1749290400-1749312000@crossingszumbrota.com
SUMMARY:NAMI Art(is)T Therapy Artisan Market *Free event!*
DESCRIPTION:One day art fair\, a fundraiser for NAMI to be held at Little Thistle Brewery in Rochester\, MN Crossings Clay Studio will be there – sharing and selling some of our member’s work\, so stop in and say hello! Visit the other vendors and your contribution will support NAMI\, The National Alliance on Mental Illness. Find out more about NAMI and their work here.
URL:https://crossingszumbrota.com/event/nami-artist-therapy-artisan-market-free-event/
LOCATION:Little Thistle Brewery\, 2031 14th St NW\, Rochester\, Minnesota\, 55901\, United States
CATEGORIES:Art Class,Art Fair,Clay / Pottery,Family Friendly
ATTACH;FMTTYPE=image/jpeg:https://crossingszumbrota.com/wp-content/uploads/2024/05/424679467_326302780402627_5049175552756374253_n.jpg
END:VEVENT
BEGIN:VEVENT
DTSTART;TZID=America/Chicago:20250610T133000
DTEND;TZID=America/Chicago:20250612T153000
DTSTAMP:20260421T151203
CREATED:20250418T163049Z
LAST-MODIFIED:20250520T135007Z
UID:1420-1749562200-1749742200@crossingszumbrota.com
SUMMARY:Summer Clay Camp for Kids *FULL*
DESCRIPTION:Join us in the lower level clay studio for three afternoons of working on the pottery wheel! Tues June 10th\, Wed June 11th and Thurs June 12th from 1:30pm – 3:30pm. \n\n\n\nThis camp is designed for older kids\, or teenagers ages 11 and up – or younger kids with previous experience and an interest in learning the pottery wheel! Thanks to a grant from the Carl & Verna Schmidt Foundation we are able to offer this class at a reduced price. We’ll work on centering clay and learning to pull up a wall to create bowls\, cups and more!We’ll have time to trim our pots and add details like handles for mugs and prepare for the kiln. We’ll learn about clay\, glazes and practice wedging and weighing out clay.  \n\n\n\nWith guided instruction\, they should be able to make 1-2 pieces per day\, there will be an additional cost of $4 each for more than 6 pieces at the end of the camp. We will also make a date later in the month for all the kids to come back and glaze their pottery so they can see the whole process start to finish! Class size limited to six so they will all be guaranteed success at throwing on the wheel! \n\n\n\nIf you have questions please email us at crossingszumbrota@gmail.com or register below. \n\n\n\n\n\n\n\n\n\n\n\n\n\n\n\nRegister Here
URL:https://crossingszumbrota.com/event/summer-clay-camp-for-kids/
LOCATION:Crossings Art & Community Education Center\, 320 East Avenue\, Zumbrota\, Minnesota\, 55992\, United States
CATEGORIES:Art Class,Art Fair,Clay / Pottery,Family Friendly,For Kids
ATTACH;FMTTYPE=image/png:https://crossingszumbrota.com/wp-content/uploads/2025/04/JUne-10-11-12th-1.png
END:VEVENT
END:VCALENDAR