BEGIN:VCALENDAR
VERSION:2.0
PRODID:-//Crossings Art &amp; Community Education Center - ECPv6.15.20//NONSGML v1.0//EN
CALSCALE:GREGORIAN
METHOD:PUBLISH
X-WR-CALNAME:Crossings Art &amp; Community Education Center
X-ORIGINAL-URL:https://crossingszumbrota.com
X-WR-CALDESC:Events for Crossings Art &amp; Community Education Center
REFRESH-INTERVAL;VALUE=DURATION:PT1H
X-Robots-Tag:noindex
X-PUBLISHED-TTL:PT1H
BEGIN:VTIMEZONE
TZID:America/Chicago
BEGIN:DAYLIGHT
TZOFFSETFROM:-0600
TZOFFSETTO:-0500
TZNAME:CDT
DTSTART:20230312T080000
END:DAYLIGHT
BEGIN:STANDARD
TZOFFSETFROM:-0500
TZOFFSETTO:-0600
TZNAME:CST
DTSTART:20231105T070000
END:STANDARD
BEGIN:DAYLIGHT
TZOFFSETFROM:-0600
TZOFFSETTO:-0500
TZNAME:CDT
DTSTART:20240310T080000
END:DAYLIGHT
BEGIN:STANDARD
TZOFFSETFROM:-0500
TZOFFSETTO:-0600
TZNAME:CST
DTSTART:20241103T070000
END:STANDARD
BEGIN:DAYLIGHT
TZOFFSETFROM:-0600
TZOFFSETTO:-0500
TZNAME:CDT
DTSTART:20250309T080000
END:DAYLIGHT
BEGIN:STANDARD
TZOFFSETFROM:-0500
TZOFFSETTO:-0600
TZNAME:CST
DTSTART:20251102T070000
END:STANDARD
END:VTIMEZONE
BEGIN:VEVENT
DTSTART;TZID=America/Chicago:20241113T183000
DTEND;TZID=America/Chicago:20241113T203000
DTSTAMP:20260422T033121
CREATED:20241027T000853Z
LAST-MODIFIED:20241027T001455Z
UID:1080-1731522600-1731529800@crossingszumbrota.com
SUMMARY:Ceramic Ornaments Workshop
DESCRIPTION:Join us in the lower level clay studio to make beautiful clay ornaments to decorate your home or Christmas tree for the holidays! We’ll roll out clay and add textures\, then use stencils or cookie cutters to create the shapes. You can add letters and names to personalize your ornaments if you like. We’ll choose our glaze colors and your ornaments will be ready for pick up within two weeks. Each person can make up to ten ornaments and this workshop is super family friendly! They will also make really special gifts for teachers\, friends and family. \n\n\n\n\n\n\n\n\n\n\n\n\n\n\n\nSign up here\, class size is limited!
URL:https://crossingszumbrota.com/event/ceramic-ornaments-workshop/
LOCATION:Crossings Art & Community Education Center\, 320 East Avenue\, Zumbrota\, Minnesota\, 55992\, United States
CATEGORIES:Art Class,Clay / Pottery,Family Friendly,Holidays
ATTACH;FMTTYPE=image/png:https://crossingszumbrota.com/wp-content/uploads/2024/10/Screenshot-2024-10-26-at-6.31.29 PM.png
END:VEVENT
BEGIN:VEVENT
DTSTART;TZID=America/Chicago:20241116T130000
DTEND;TZID=America/Chicago:20241116T143000
DTSTAMP:20260422T033121
CREATED:20240623T171058Z
LAST-MODIFIED:20241025T025116Z
UID:824-1731762000-1731767400@crossingszumbrota.com
SUMMARY:Fused Glass Ornaments with Gerie Thelen
DESCRIPTION:Geri’s classes are so popular\, so we’re having her back again\, this time with Fused Glass Ornaments! Not only are they fun to make but hanging these colorful creations in your window or on your Christmas tree will bring joy and light into your home\, and they make great gifts!  \n\n\n\n\n\n\n\n\nIn this class you will create three different fused glass ornaments. Everything will be provided to create your own little works of art.  No experience necessary\, just bring your creativity. Gerie will complete the pieces by firing them in her glass kiln. Your ornaments will be ready for pick up at Crossings within 1-2 weeks! You must wear closed toe shoes for safety. Bring a friend and enjoy the day. Get an early start on your holiday shopping! \n\n\n\n\n\n\n\n\n***Last day to sign up is Sunday Nov 10th*** \n\n\n\nPurchase Tickets Here
URL:https://crossingszumbrota.com/event/fused-glass-suncatchers-with-gerie-thelen/
LOCATION:Crossings Art & Community Education Center\, 320 East Avenue\, Zumbrota\, Minnesota\, 55992\, United States
CATEGORIES:Art Class,Family Friendly,Glass Art
ATTACH;FMTTYPE=image/png:https://crossingszumbrota.com/wp-content/uploads/2024/06/Ornaments-1.png
END:VEVENT
END:VCALENDAR