BEGIN:VCALENDAR
VERSION:2.0
PRODID:-//Crossings Art &amp; Community Education Center - ECPv6.15.20//NONSGML v1.0//EN
CALSCALE:GREGORIAN
METHOD:PUBLISH
X-ORIGINAL-URL:https://crossingszumbrota.com
X-WR-CALDESC:Events for Crossings Art &amp; Community Education Center
REFRESH-INTERVAL;VALUE=DURATION:PT1H
X-Robots-Tag:noindex
X-PUBLISHED-TTL:PT1H
BEGIN:VTIMEZONE
TZID:America/Chicago
BEGIN:DAYLIGHT
TZOFFSETFROM:-0600
TZOFFSETTO:-0500
TZNAME:CDT
DTSTART:20230312T080000
END:DAYLIGHT
BEGIN:STANDARD
TZOFFSETFROM:-0500
TZOFFSETTO:-0600
TZNAME:CST
DTSTART:20231105T070000
END:STANDARD
BEGIN:DAYLIGHT
TZOFFSETFROM:-0600
TZOFFSETTO:-0500
TZNAME:CDT
DTSTART:20240310T080000
END:DAYLIGHT
BEGIN:STANDARD
TZOFFSETFROM:-0500
TZOFFSETTO:-0600
TZNAME:CST
DTSTART:20241103T070000
END:STANDARD
BEGIN:DAYLIGHT
TZOFFSETFROM:-0600
TZOFFSETTO:-0500
TZNAME:CDT
DTSTART:20250309T080000
END:DAYLIGHT
BEGIN:STANDARD
TZOFFSETFROM:-0500
TZOFFSETTO:-0600
TZNAME:CST
DTSTART:20251102T070000
END:STANDARD
END:VTIMEZONE
BEGIN:VEVENT
DTSTART;TZID=America/Chicago:20241013T140000
DTEND;TZID=America/Chicago:20241013T170000
DTSTAMP:20260424T052109
CREATED:20240410T220419Z
LAST-MODIFIED:20241025T014526Z
UID:571-1728828000-1728838800@crossingszumbrota.com
SUMMARY:Open Mic Sunday Afternoon
DESCRIPTION:Our house band will start off with a few tunes\, then invite players to come up and jam with us on a few well known classic rock and blues tunes. (No more than three\, maybe four chords\, we promise). Bring your own charts or if you know the chord changes and want a back up band – we’re here. We’ll take a break and then invite solo performers\, poets and story tellers to the stage. After that – depends on who shows up and what everyone wants to play\, we’re up for it!We’ll have a clipboard for sign up to make sure everyone gets a chance on stage. No hot dogs allowed! But the place is dog friendly. Bring your own beverages. No smoking on the premises or within 25 feet of the entrance. \n\n\n\n\n\n\n\n\nBring your voice\, your talents and shake off the stage fright and show us what you’ve got! We have a PA set up\, drum set\, microphones and keyboard ready to go. Bring your own guitar & cord and plug into the PA or bring your own amp. If you have a song to sing\, a poem or story to tell – welcome! \n\n\n\nWe’ll have Open Mic on the last Sunday of every month\, except December.
URL:https://crossingszumbrota.com/event/open-mic-sunday-afternoon/
LOCATION:Crossings Art & Community Education Center\, 320 East Avenue\, Zumbrota\, Minnesota\, 55992\, United States
CATEGORIES:Family Friendly,Open Mic
ATTACH;FMTTYPE=image/jpeg:https://crossingszumbrota.com/wp-content/uploads/2024/04/Open-Mic-sunday-Afternoon-2-1.jpg
END:VEVENT
BEGIN:VEVENT
DTSTART;TZID=America/Chicago:20241024T100000
DTEND;TZID=America/Chicago:20241025T160000
DTSTAMP:20260424T052109
CREATED:20240512T134930Z
LAST-MODIFIED:20240927T190353Z
UID:685-1729764000-1729872000@crossingszumbrota.com
SUMMARY:Batik Bee with Julie Yost
DESCRIPTION:Batik is an ancient art form of layering wax and colorful dyes onto fabric\, then removing the wax to reveal beautiful works of art. We’ll spend our time immersed in creating beautiful Batik masterpieces! We’ll have everything you need\, fabric\, wax\, dyes and all the supplies. Just bring your ideas and Julie will guide us through the process. With plenty of space for the dye baths\, painting/ waxing tables and ironing areas set up for the weekend\, let us manage the mess! \n\n\n\nTwo great days of creative bliss! Thursday Oct 24th and Friday Oct 25th. Come for one or both days! \n\n\n\nEnjoy a deep dive into this beautiful artform! The only things you need to bring are your ideas! (And maybe some snacks 🙂 The coffee pot will be on and hot water ready for tea\, make some new friends and have a great time learning this ancient fabric technique. All supplies are included. We’ll have pretreated fabric on hand\, and plenty of ideas to help get you started. \n\n\n\nThis will be the last Batik Bee of the season! So don’t miss out!  \n\n\n\n\n\n\n\nUse these links to sign up for: THURSDAY ONLYFRIDAY ONLYBOTH DAYS
URL:https://crossingszumbrota.com/event/batik-bee-with-julie-yost/
LOCATION:Crossings Art & Community Education Center\, 320 East Avenue\, Zumbrota\, Minnesota\, 55992\, United States
CATEGORIES:Art Class,Fiber Art
ATTACH;FMTTYPE=image/jpeg:https://crossingszumbrota.com/wp-content/uploads/2024/05/JulieYostLilyBatik-2.jpg
END:VEVENT
END:VCALENDAR