BEGIN:VCALENDAR
VERSION:2.0
PRODID:-//Crossings Art &amp; Community Education Center - ECPv6.15.20//NONSGML v1.0//EN
CALSCALE:GREGORIAN
METHOD:PUBLISH
X-WR-CALNAME:Crossings Art &amp; Community Education Center
X-ORIGINAL-URL:https://crossingszumbrota.com
X-WR-CALDESC:Events for Crossings Art &amp; Community Education Center
REFRESH-INTERVAL;VALUE=DURATION:PT1H
X-Robots-Tag:noindex
X-PUBLISHED-TTL:PT1H
BEGIN:VTIMEZONE
TZID:America/Chicago
BEGIN:DAYLIGHT
TZOFFSETFROM:-0600
TZOFFSETTO:-0500
TZNAME:CDT
DTSTART:20230312T080000
END:DAYLIGHT
BEGIN:STANDARD
TZOFFSETFROM:-0500
TZOFFSETTO:-0600
TZNAME:CST
DTSTART:20231105T070000
END:STANDARD
BEGIN:DAYLIGHT
TZOFFSETFROM:-0600
TZOFFSETTO:-0500
TZNAME:CDT
DTSTART:20240310T080000
END:DAYLIGHT
BEGIN:STANDARD
TZOFFSETFROM:-0500
TZOFFSETTO:-0600
TZNAME:CST
DTSTART:20241103T070000
END:STANDARD
BEGIN:DAYLIGHT
TZOFFSETFROM:-0600
TZOFFSETTO:-0500
TZNAME:CDT
DTSTART:20250309T080000
END:DAYLIGHT
BEGIN:STANDARD
TZOFFSETFROM:-0500
TZOFFSETTO:-0600
TZNAME:CST
DTSTART:20251102T070000
END:STANDARD
END:VTIMEZONE
BEGIN:VEVENT
DTSTART;TZID=America/Chicago:20240710T130000
DTEND;TZID=America/Chicago:20240710T160000
DTSTAMP:20260424T094213
CREATED:20240607T172652Z
LAST-MODIFIED:20240927T180640Z
UID:763-1720616400-1720627200@crossingszumbrota.com
SUMMARY:'Bob Ross' Painting Class with Julie Fjetland
DESCRIPTION:Remember Bob Ross? Want to put a little cloud in your world? Julie Fjetland is a trained and certified Bob Ross instructor who will guide us through the process of creating a beautiful painting with oils. No experience necessary! \n\n\n\nDuring the class Julie will show you how to prepare your canvas and then demo the step-by-step the painting techniques. Then you will have time to complete each step as she answers any questions and helps you with those techniques. By the end of class\, you will have completed the entire painting and can take it home to hang and enjoy for years to come. \n\n\n\n\n\n\n\n\n\n\n\nMore about Julie Fjetland: Originally from Lake City\, MN she became inspired in December of 2014\, when she took her first training to become a CRI (Certified Ross Instructor). Since then Julie continued her studies and is now certified to teach the Bob Ross “Wet-on-Wet” landscape (CRI)\, floral (CRFI) and wildlife (CRWI) painting techniques. In the spring of 2022\, she continued her education and is now certified in the Donna Dewberry One Stroke levels l & ll acrylic painting techniques. She currently lives in Florida and travels around the country during the summer months sharing her love of painting. \n\n\n\nRegister Here
URL:https://crossingszumbrota.com/event/bob-ross-painting-class-with-julie-fjetland/
LOCATION:Crossings Art & Community Education Center\, 320 East Avenue\, Zumbrota\, Minnesota\, 55992\, United States
CATEGORIES:Art Class,Painting
ATTACH;FMTTYPE=image/png:https://crossingszumbrota.com/wp-content/uploads/2024/06/Screenshot-2024-06-05-at-9.26.40 AM-e1717781052693.png
END:VEVENT
BEGIN:VEVENT
DTSTART;TZID=America/Chicago:20240725T180000
DTEND;TZID=America/Chicago:20240725T200000
DTSTAMP:20260424T094213
CREATED:20240607T204324Z
LAST-MODIFIED:20240619T034606Z
UID:788-1721930400-1721937600@crossingszumbrota.com
SUMMARY:'Paint a Pet' class with Grey Duck Art
DESCRIPTION:We’re so excited to offer this super popular class from Gray Duck Art! We’ll paint together in the upper studio from custom drawn canvases of our own pets! \n\n\n					\n											\n											\n							\n				\n					\n					\n					\n				\n				\n											\n											\n					No Caption				\n										\n									\n						\n						\n							\n				\n					\n					\n					\n				\n				\n											\n											\n					No Caption				\n										\n									\n						\n						\n							\n				\n					\n					\n					\n				\n				\n											\n											\n					No Caption				\n										\n									\n						\n										\n																		\n									\n\n\n\n\n\n\nSimilar to a paint by number kit you may remember growing up – these are from the photos of our pets – hand drawn just for the class. And they sure like dogs\, but cats\, birds\, turtles\, all welcome! \n\n\n\nWho is Grey Duck Art? \n\n\n\nThey are a women-owned and local business based in Minnesota that encourages you to ditch your creative doubt because you are more creative than you think. Their pet painting kits have been sold in all 50 states. They’ll will help you discover a creative bone that you didn’t know you had. The Gray Duck Art team is made up of six unique and extremely talented artists that hand draw your pet with a paint by number layout\, ready for you to jump in and paint! \n\n\n\nOk\, sounds great\, right!? You’re in? What’s next? \n\n\n\nRegister with the link below\, and you will be asked to choose your background color\, here are the choices: \n\n\n\n\n\n\n\n\n\n\n\nWe will paint together and have fun watching each other’s pets emerge from the canvas. Bring your favorite beverage\, bring a friend or child! All supplies included. \n\n\n\n$84 for the first canvas\, and for an additional pet canvas\, $38 each (limit two per family / household). \n\n\n\nSend in your photo of your pet to crossingszumbrota@gmail.com no later than JULY 9th. The grey duck team will HAND DRAW your canvas and custom mix your paint colors and have them shipped to Crossings by our class date of July 25th. \n\n\n\nQuestions: \n\n\n\nWhat if I don’t finish my painting during the class? No problem! Your paints will stay fresh for 8 weeks so you have plenty of time to complete your painting. \n\n\n\nWhat if I paid and sent my photo in and now I can’t make it to the class? We will still have your canvas and paints shipped to Crossings\, you can pick it up later and will be able to paint on your own at home or come to our Open Studio time. \n\n\n\nSorry\, no refunds after the July 9th deadline. \n\n\n\n\n\nRegister Here for ONE canvas\, contact us if you would like to add a second canvas and we’ll send an invoice separately.
URL:https://crossingszumbrota.com/event/paint-a-pet-class-with-grey-duck-art/
LOCATION:Crossings Art & Community Education Center\, 320 East Avenue\, Zumbrota\, Minnesota\, 55992\, United States
CATEGORIES:Art Class,Painting
ATTACH;FMTTYPE=image/jpeg:https://crossingszumbrota.com/wp-content/uploads/2024/06/greyduck1.jpeg
END:VEVENT
END:VCALENDAR