BEGIN:VCALENDAR
VERSION:2.0
PRODID:-//Crossings Art &amp; Community Education Center - ECPv6.15.20//NONSGML v1.0//EN
CALSCALE:GREGORIAN
METHOD:PUBLISH
X-ORIGINAL-URL:https://crossingszumbrota.com
X-WR-CALDESC:Events for Crossings Art &amp; Community Education Center
REFRESH-INTERVAL;VALUE=DURATION:PT1H
X-Robots-Tag:noindex
X-PUBLISHED-TTL:PT1H
BEGIN:VTIMEZONE
TZID:UTC
BEGIN:STANDARD
TZOFFSETFROM:+0000
TZOFFSETTO:+0000
TZNAME:UTC
DTSTART:20230101T000000
END:STANDARD
END:VTIMEZONE
BEGIN:VEVENT
DTSTART;TZID=UTC:20240607T183000
DTEND;TZID=UTC:20240607T203000
DTSTAMP:20260424T111253
CREATED:20240123T111544Z
LAST-MODIFIED:20250527T175003Z
UID:264-1717785000-1717792200@crossingszumbrota.com
SUMMARY:June Intro to the Wheel
DESCRIPTION:Join us in the clay studio for a fun night on the wheel. Whether you have had some experience on the wheel or never tried it – this class is for you! We will guide you in the process of creating 1 – 2 pieces\, you’ll select the glaze you like and we will trim and fire them for you and have them ready for pick-up in 2 – 3 weeks! \n\n\n\nWear clothes you don’t mind getting muddy\, make sure you put your hair up\, remove jewelry\, rings or watches and trim fingernails. We will have a few aprons and plenty of towels for clean-up. Feel free to bring a friend\, bring a beverage of your choice and let’s have fun!  \n\n\n\n\n\n\n\n\n\nSign up here
URL:https://crossingszumbrota.com/event/night-on-the-wheel-with-polly-noll/
LOCATION:Crossings Clay Studio\, 320 East Ave\, lower level\, Zumbrota\, MN\, 55992\, United States
CATEGORIES:Clay / Pottery,Family Friendly
ATTACH;FMTTYPE=image/jpeg:https://crossingszumbrota.com/wp-content/uploads/2024/01/IMG_2717.jpg
END:VEVENT
END:VCALENDAR