BEGIN:VCALENDAR
VERSION:2.0
PRODID:-//Crossings Art &amp; Community Education Center - ECPv6.15.20//NONSGML v1.0//EN
CALSCALE:GREGORIAN
METHOD:PUBLISH
X-WR-CALNAME:Crossings Art &amp; Community Education Center
X-ORIGINAL-URL:https://crossingszumbrota.com
X-WR-CALDESC:Events for Crossings Art &amp; Community Education Center
REFRESH-INTERVAL;VALUE=DURATION:PT1H
X-Robots-Tag:noindex
X-PUBLISHED-TTL:PT1H
BEGIN:VTIMEZONE
TZID:America/Chicago
BEGIN:DAYLIGHT
TZOFFSETFROM:-0600
TZOFFSETTO:-0500
TZNAME:CDT
DTSTART:20250309T080000
END:DAYLIGHT
BEGIN:STANDARD
TZOFFSETFROM:-0500
TZOFFSETTO:-0600
TZNAME:CST
DTSTART:20251102T070000
END:STANDARD
BEGIN:DAYLIGHT
TZOFFSETFROM:-0600
TZOFFSETTO:-0500
TZNAME:CDT
DTSTART:20260308T080000
END:DAYLIGHT
BEGIN:STANDARD
TZOFFSETFROM:-0500
TZOFFSETTO:-0600
TZNAME:CST
DTSTART:20261101T070000
END:STANDARD
BEGIN:DAYLIGHT
TZOFFSETFROM:-0600
TZOFFSETTO:-0500
TZNAME:CDT
DTSTART:20270314T080000
END:DAYLIGHT
BEGIN:STANDARD
TZOFFSETFROM:-0500
TZOFFSETTO:-0600
TZNAME:CST
DTSTART:20271107T070000
END:STANDARD
END:VTIMEZONE
BEGIN:VEVENT
DTSTART;TZID=America/Chicago:20260612T183000
DTEND;TZID=America/Chicago:20260612T203000
DTSTAMP:20260419T114906
CREATED:20241202T222109Z
LAST-MODIFIED:20260413T182127Z
UID:1145-1781289000-1781296200@crossingszumbrota.com
SUMMARY:June Intro to the Wheel with Polly Noll
DESCRIPTION:Join us in the lower level clay studio for a fun night on the wheel. Whether you have had some experience on the wheel or never tried it – this class is for you!  \n\n\n\nWe’ll will guide you in the process of creating 1 – 2 pieces\, you’ll select the glaze you like and we will trim and fire them for you and have them ready for pick-up in 2 – 3 weeks. \n\n\n\nWe’re so fortunate to have Polly Noll in the clay studio\, with over 20 years of experience and a patient\, fun attitude\, you’ll be in good hands to have success of the wheel. \n\n\n\n\n\n\n\n\nMore about Polly here \n\n\n\nWear clothes you don’t mind getting muddy\, make sure you put your hair up\, remove jewelry\, rings or watches and trim fingernails. We will have a few aprons and plenty of towels for clean-up. Feel free to bring a friend\, bring a beverage of your choice and let’s have fun! \n\n\n\nRegister here
URL:https://crossingszumbrota.com/event/intro-to-the-wheel-with-polly-noll-june-2026/
LOCATION:Crossings Art & Community Education Center\, 320 East Avenue\, Zumbrota\, Minnesota\, 55992\, United States
CATEGORIES:Art Class,Clay / Pottery,Family Friendly,Handcrafted,pottery
ATTACH;FMTTYPE=image/png:https://crossingszumbrota.com/wp-content/uploads/2024/12/Copy-of-Copy-of-Copy-of-Copy-of-Intro-to-the-Wheel.png
END:VEVENT
END:VCALENDAR